BEGIN:VCALENDAR
VERSION:2.0
PRODID:event_483
BEGIN:VEVENT
UID:483
SUMMARY:Dia internacional del poble gitano
DESCRIPTION;ENCODING=QUOTED-PRINTABLE:La plaça de Sant Antoni serà escenari d’un concert gratuït programat per la Regidoria de Cultura. En aquesta ocasió, actuaran diversos músics targarins, paios i gitanos, units per una passió comuna: la rumba catalana. Carlitos Miñarro, conegut exponent del gènere, estarà acompanyat per Enric Pubill, Xavier Reyes i Roger Lozano, amb convidats especials. El repertori se centrarà en cançons d'ara i de sempre que representen el llegat del poble caló, de Gipsy Kings a Peret. En el decurs del concert també s’homenatjarà l’escriptor targarí Xavier García a títol pòstum. L’autor i activista cultural era un divulgador de la rumba i el flamenc. La Biblioteca Germanes Güell exposa fins al 12 d’abril una mostra de llibres sobre el llegat del poble gitano.
X-ALT-DESC;FMTTYPE=text/html:<p data-redactor-style-cache="text-align: justify\;"><strong>La plaça de Sant Antoni serà escenari d’un concert gratuït programat per la Regidoria de Cultura</strong>. En aquesta ocasió, actuaran diversos músics targarins, paios i gitanos, units per una passió comuna: la rumba catalana. <strong>Carlitos Miñarro, conegut exponent del gènere, estarà acompanyat per Enric Pubill, Xavier Reyes i Roger Lozano, amb convidats especials.</strong></p> <p data-redactor-style-cache="text-align: justify\;">El repertori se centrarà en cançons d'ara i de sempre que representen el llegat del poble caló, de Gipsy Kings a Peret. En el decurs del concert també <strong>s’homenatjarà l’escriptor targarí Xavier García a títol pòstum. </strong>L’autor i activista cultural era un divulgador de la rumba i el flamenc.</p> <p data-redactor-style-cache="text-align: justify\;"><strong>La Biblioteca Germanes Güell exposa fins al 12 d’abril una mostra de llibres sobre el llegat del poble gitano.</strong></p>
LOCATION:Plaça Sant Antoni
ORGANIZER:Regidoria de cultura
CATEGORIES:Recomanacions del Centre Cultural
DTSTAMP:20260410T231825
DTSTART:20260412T180000
URL:https://culturaltarrega.org/ca/e/cultural-tarrega/dia-internacional-del-poble-gitano-483-5
END:VEVENT
END:VCALENDAR